BEGIN:VCALENDAR
VERSION:2.0
PRODID:-//Kansas Singletrack Society - ECPv6.15.20//NONSGML v1.0//EN
CALSCALE:GREGORIAN
METHOD:PUBLISH
X-WR-CALNAME:Kansas Singletrack Society
X-ORIGINAL-URL:https://kssingletrack.com
X-WR-CALDESC:Events for Kansas Singletrack Society
REFRESH-INTERVAL;VALUE=DURATION:PT1H
X-Robots-Tag:noindex
X-PUBLISHED-TTL:PT1H
BEGIN:VTIMEZONE
TZID:America/Chicago
BEGIN:DAYLIGHT
TZOFFSETFROM:-0600
TZOFFSETTO:-0500
TZNAME:CDT
DTSTART:20230312T080000
END:DAYLIGHT
BEGIN:STANDARD
TZOFFSETFROM:-0500
TZOFFSETTO:-0600
TZNAME:CST
DTSTART:20231105T070000
END:STANDARD
BEGIN:DAYLIGHT
TZOFFSETFROM:-0600
TZOFFSETTO:-0500
TZNAME:CDT
DTSTART:20240310T080000
END:DAYLIGHT
BEGIN:STANDARD
TZOFFSETFROM:-0500
TZOFFSETTO:-0600
TZNAME:CST
DTSTART:20241103T070000
END:STANDARD
BEGIN:DAYLIGHT
TZOFFSETFROM:-0600
TZOFFSETTO:-0500
TZNAME:CDT
DTSTART:20250309T080000
END:DAYLIGHT
BEGIN:STANDARD
TZOFFSETFROM:-0500
TZOFFSETTO:-0600
TZNAME:CST
DTSTART:20251102T070000
END:STANDARD
BEGIN:DAYLIGHT
TZOFFSETFROM:-0600
TZOFFSETTO:-0500
TZNAME:CDT
DTSTART:20260308T080000
END:DAYLIGHT
BEGIN:STANDARD
TZOFFSETFROM:-0500
TZOFFSETTO:-0600
TZNAME:CST
DTSTART:20261101T070000
END:STANDARD
END:VTIMEZONE
BEGIN:VTIMEZONE
TZID:UTC
BEGIN:STANDARD
TZOFFSETFROM:+0000
TZOFFSETTO:+0000
TZNAME:UTC
DTSTART:20240101T000000
END:STANDARD
END:VTIMEZONE
BEGIN:VEVENT
DTSTART;TZID=America/Chicago:20241228T090000
DTEND;TZID=America/Chicago:20241229T160000
DTSTAMP:20260419T104226
CREATED:20241218T145954Z
LAST-MODIFIED:20241218T145954Z
UID:176-1735376400-1735488000@kssingletrack.com
SUMMARY:Main 8 Dirt Jump Workday
DESCRIPTION:We’re teaming up with Troy from Main 8 to put in some big efforts on the dirt jumps. We’ll be out there Saturday and Sunday with a digger\, wheel barrows\, and hand tools to move a whole lot of dirt.\nIf you were ever wondering how to build jumps and features\, this is your workday. It’ll probably be a bit different than our normal workdays but should be a great time and will make this awesome place just a bit more dialed when we’re done.\nPlan is to work from 9-4ish both days but feel free to come out for as much or as little as you want
URL:https://kssingletrack.com/event/main-8-dirt-jump-workday/
LOCATION:Main 8 El Dorado\, 100 E 8th\, El Dorado\, KS\, 67042\, United States
END:VEVENT
BEGIN:VEVENT
DTSTART;TZID=UTC:20250101T110000
DTEND;TZID=UTC:20250101T170000
DTSTAMP:20260419T104226
CREATED:20241212T215505Z
LAST-MODIFIED:20241212T215505Z
UID:88-1735729200-1735750800@kssingletrack.com
SUMMARY:New Year's Day Ride Camp Horizon
DESCRIPTION:
URL:https://kssingletrack.com/event/new-years-day-ride-camp-horizon/
LOCATION:Camp Horizon\, 30811 Horizon Dr\, Arkansas City\, KS\, 67005\, United States
END:VEVENT
BEGIN:VEVENT
DTSTART;TZID=America/Chicago:20250313T173000
DTEND;TZID=America/Chicago:20250313T230000
DTSTAMP:20260419T104226
CREATED:20250310T211623Z
LAST-MODIFIED:20250310T211623Z
UID:185-1741887000-1741906800@kssingletrack.com
SUMMARY:TNGR Eldorado 5:30 to Whenever
DESCRIPTION:
URL:https://kssingletrack.com/event/tngr-eldorado-530-to-whenever/
LOCATION:El Dorado Lake\, KS\, United States
END:VEVENT
BEGIN:VEVENT
DTSTART;TZID=America/Chicago:20250409T180000
DTEND;TZID=America/Chicago:20250409T210000
DTSTAMP:20260419T104226
CREATED:20250317T142814Z
LAST-MODIFIED:20250317T175207Z
UID:195-1744221600-1744232400@kssingletrack.com
SUMMARY:KSS Monthly Meeting
DESCRIPTION:KSS Monthly Meeting Second Wednesday
URL:https://kssingletrack.com/event/kss-monthly-meeting/
LOCATION:KS
END:VEVENT
BEGIN:VEVENT
DTSTART;TZID=America/Chicago:20250603T173000
DTEND;TZID=America/Chicago:20250603T220000
DTSTAMP:20260419T104226
CREATED:20250516T151303Z
LAST-MODIFIED:20250516T170218Z
UID:201-1748971800-1748988000@kssingletrack.com
SUMMARY:Ride and Work Canoe Launch
DESCRIPTION:Come out ride and work at Canoe Launch
URL:https://kssingletrack.com/event/june-tngr-ride-and-work/
LOCATION:Canoe Launch\, Derby\, KS\, United States
END:VEVENT
BEGIN:VEVENT
DTSTART;TZID=America/Chicago:20250610T173000
DTEND;TZID=America/Chicago:20250610T220000
DTSTAMP:20260419T104226
CREATED:20250516T151429Z
LAST-MODIFIED:20250516T170158Z
UID:204-1749576600-1749592800@kssingletrack.com
SUMMARY:Ride and Work Canoe Launch
DESCRIPTION:Canoe Launch Ride and Work
URL:https://kssingletrack.com/event/tngr-ride-and-work-canoe-launch/
LOCATION:Canoe Launch\, Derby\, KS\, United States
END:VEVENT
BEGIN:VEVENT
DTSTART;TZID=America/Chicago:20250614T080000
DTEND;TZID=America/Chicago:20250615T170000
DTSTAMP:20260419T104226
CREATED:20250516T152126Z
LAST-MODIFIED:20250516T152126Z
UID:207-1749888000-1750006800@kssingletrack.com
SUMMARY:Work Days Santa Fe Lake
DESCRIPTION:KSS has a plan for two work days on Saturday June 14 and Sunday June 15th at Santa Fe Lake. There is one area we plan to reroute a small amount of trail to make the transition from a downhill into a curve less abrupt by extending into a campsite just a bit. More hands make the work go faster. We’d appreciate any time and effort you could donate. Pre-work meeting is at 8:30\, well introduce ourselves and explain the plan and other work to be done.
URL:https://kssingletrack.com/event/work-days-santa-fe-lake/
LOCATION:Santa Fe Lake\, 11367 SW Shore Drive\, Augusta\, KS\, 67010\, United States
END:VEVENT
BEGIN:VEVENT
DTSTART;TZID=America/Chicago:20251004T100000
DTEND;TZID=America/Chicago:20251004T140000
DTSTAMP:20260419T104226
CREATED:20250710T155513Z
LAST-MODIFIED:20250710T155638Z
UID:231-1759572000-1759586400@kssingletrack.com
SUMMARY:Take a Kid Mountain Biking Day
DESCRIPTION:Join us for our 3rd annual Take a Kid Mountain Biking day! We’ll have our obstacle course set up\, do a guided sample of the trail\, and provide hot dogs and chips for lunch.\nThe event is open to all ages.\n10am- Event start and obstacle course ride\n11am- Guided trail ride\n12-2pm- Lunch and free ride\nBike\, helmet\, and closed toe shoes are required to participate.\nPlease come on out if you can and share with anyone local with kids.
URL:https://kssingletrack.com/event/take-a-kid-mountain-biking-day/
LOCATION:El Dorado Lake\, KS\, United States
END:VEVENT
END:VCALENDAR